BEGIN:VCALENDAR
VERSION:2.0
PRODID:-//lkms.se - ECPv6.15.20//NONSGML v1.0//EN
CALSCALE:GREGORIAN
METHOD:PUBLISH
X-ORIGINAL-URL:https://lkms.se
X-WR-CALDESC:Händelser för lkms.se
REFRESH-INTERVAL;VALUE=DURATION:PT1H
X-Robots-Tag:noindex
X-PUBLISHED-TTL:PT1H
BEGIN:VTIMEZONE
TZID:Europe/Stockholm
BEGIN:DAYLIGHT
TZOFFSETFROM:+0100
TZOFFSETTO:+0200
TZNAME:CEST
DTSTART:20240331T010000
END:DAYLIGHT
BEGIN:STANDARD
TZOFFSETFROM:+0200
TZOFFSETTO:+0100
TZNAME:CET
DTSTART:20241027T010000
END:STANDARD
BEGIN:DAYLIGHT
TZOFFSETFROM:+0100
TZOFFSETTO:+0200
TZNAME:CEST
DTSTART:20250330T010000
END:DAYLIGHT
BEGIN:STANDARD
TZOFFSETFROM:+0200
TZOFFSETTO:+0100
TZNAME:CET
DTSTART:20251026T010000
END:STANDARD
BEGIN:DAYLIGHT
TZOFFSETFROM:+0100
TZOFFSETTO:+0200
TZNAME:CEST
DTSTART:20260329T010000
END:DAYLIGHT
BEGIN:STANDARD
TZOFFSETFROM:+0200
TZOFFSETTO:+0100
TZNAME:CET
DTSTART:20261025T010000
END:STANDARD
END:VTIMEZONE
BEGIN:VEVENT
DTSTART;TZID=Europe/Stockholm:20251027T190000
DTEND;TZID=Europe/Stockholm:20251027T210000
DTSTAMP:20260422T163903
CREATED:20250621T192126Z
LAST-MODIFIED:20251031T063148Z
UID:2537-1761591600-1761598800@lkms.se
SUMMARY:Minguet Quartett
DESCRIPTION:Spelafton nr 699 \nUlrich Isfort och Annette Reisinger\, violin\, Aida-Carmen Soanea\, viola och Matthias Diener\, cello\nWolfgang Amadeus Mozart Stråkkvartett K465 Dissonanskvartetten\nArnold Schönberg Scherzo för stråkkvartett i F-dur\nGustav Mahler Ich bin der Welt abhanden gekommen (arr. för stråkkvartett av A. Reisinger)\nJohannes Brahms Stråkkvartett nr 1 i c-moll op. 51:1\nExtranummer: Endre Szervánszky Serenade för stråkorkester\, sats III Arioso (takt 1-12) \nHemsida \nBiljetter (barn och ungdomar under 18 år kan hämta en gratisbiljett vid entrén): tickster.com
URL:https://lkms.se/event/minguet-quartett/
LOCATION:Magle Konserthus\, Magle Stora Kyrkogata 4\, Lund\, 223 50\, Sverige
CATEGORIES:MiS
ATTACH;FMTTYPE=image/jpeg:https://lkms.se/wp-content/uploads/2025/05/2-mq-galerie-by-irene_zandel-2-CROP-scaled.jpg
END:VEVENT
END:VCALENDAR