BEGIN:VCALENDAR
VERSION:2.0
PRODID:-//lkms.se - ECPv6.15.20//NONSGML v1.0//EN
CALSCALE:GREGORIAN
METHOD:PUBLISH
X-ORIGINAL-URL:https://lkms.se
X-WR-CALDESC:Händelser för lkms.se
REFRESH-INTERVAL;VALUE=DURATION:PT1H
X-Robots-Tag:noindex
X-PUBLISHED-TTL:PT1H
BEGIN:VTIMEZONE
TZID:Europe/Stockholm
BEGIN:DAYLIGHT
TZOFFSETFROM:+0100
TZOFFSETTO:+0200
TZNAME:CEST
DTSTART:20240331T010000
END:DAYLIGHT
BEGIN:STANDARD
TZOFFSETFROM:+0200
TZOFFSETTO:+0100
TZNAME:CET
DTSTART:20241027T010000
END:STANDARD
BEGIN:DAYLIGHT
TZOFFSETFROM:+0100
TZOFFSETTO:+0200
TZNAME:CEST
DTSTART:20250330T010000
END:DAYLIGHT
BEGIN:STANDARD
TZOFFSETFROM:+0200
TZOFFSETTO:+0100
TZNAME:CET
DTSTART:20251026T010000
END:STANDARD
BEGIN:DAYLIGHT
TZOFFSETFROM:+0100
TZOFFSETTO:+0200
TZNAME:CEST
DTSTART:20260329T010000
END:DAYLIGHT
BEGIN:STANDARD
TZOFFSETFROM:+0200
TZOFFSETTO:+0100
TZNAME:CET
DTSTART:20261025T010000
END:STANDARD
END:VTIMEZONE
BEGIN:VEVENT
DTSTART;TZID=Europe/Stockholm:20251124T190000
DTEND;TZID=Europe/Stockholm:20251124T210000
DTSTAMP:20260422T163759
CREATED:20250621T192213Z
LAST-MODIFIED:20251027T150515Z
UID:2555-1764010800-1764018000@lkms.se
SUMMARY:Emotional Archeology
DESCRIPTION:Spelafton nr 701 \nLiam Byrne\, viola da gamba och Jonas Nordberg\, teorb\nA-MOLL Tendre et plaintif / Ömt och klagande\nPrélude Robert de Visée\nPrélude Marin Marais\nAllemande Robert de Visée\nSarabande Marin Marais \nD-DUR Joyeux et très Guerrier / Glatt och krigiskt\nPrélude Marin Marais\nAllemande et Double\nSarabande\nGigue \nH-DUR Solitaire et mélancolique / Ensamt och melankoliskt\nSarabande Marin Marais\nTombeau pour Monsieur Lully\nMenuet \n— PAUS — \nG-DUR Doucement joyeux / Försiktigt glad\nPrélude\nEntrée des Espagnols Jean-Baptiste Lully\nSarabande Grave Marin Marais\nGavotte en rondeau Le Sieur de Machy\nChaconne Robert de Visée \nA-DUR Joyeux et champetre / Glatt och lantligt\nPrélude Le Sieur de Machy\nGavotte\nSarabande\nMenuet \nE-MOLL Effemmé\, amoureux\, et plaintif /Sprudlande\, amorös och klagande\nPrélude Robert de Visée\nPrélude Marin Marais\nSarabande à L’Espagnole\nPassacaille \nHemsida Liam Byrne | Jonas Nordberg \nBiljetter (barn och ungdomar under 18 år kan hämta en gratisbiljett vid entrén): tickster.com
URL:https://lkms.se/event/emotional-archeology/
LOCATION:Magle Konserthus\, Magle Stora Kyrkogata 4\, Lund\, 223 50\, Sverige
CATEGORIES:MiS
ATTACH;FMTTYPE=image/jpeg:https://lkms.se/wp-content/uploads/2025/05/4-5f67caed19604bdd0a3b50a5bae096c9f39a86a8776792c0b6dc22492da5e5e8._SX1080_FMjpg_LITEN.jpg
END:VEVENT
END:VCALENDAR