BEGIN:VCALENDAR
VERSION:2.0
PRODID:-//lkms.se - ECPv6.15.20//NONSGML v1.0//EN
CALSCALE:GREGORIAN
METHOD:PUBLISH
X-WR-CALNAME:lkms.se
X-ORIGINAL-URL:https://lkms.se
X-WR-CALDESC:Händelser för lkms.se
REFRESH-INTERVAL;VALUE=DURATION:PT1H
X-Robots-Tag:noindex
X-PUBLISHED-TTL:PT1H
BEGIN:VTIMEZONE
TZID:Europe/Stockholm
BEGIN:DAYLIGHT
TZOFFSETFROM:+0100
TZOFFSETTO:+0200
TZNAME:CEST
DTSTART:20220327T010000
END:DAYLIGHT
BEGIN:STANDARD
TZOFFSETFROM:+0200
TZOFFSETTO:+0100
TZNAME:CET
DTSTART:20221030T010000
END:STANDARD
BEGIN:DAYLIGHT
TZOFFSETFROM:+0100
TZOFFSETTO:+0200
TZNAME:CEST
DTSTART:20230326T010000
END:DAYLIGHT
BEGIN:STANDARD
TZOFFSETFROM:+0200
TZOFFSETTO:+0100
TZNAME:CET
DTSTART:20231029T010000
END:STANDARD
BEGIN:DAYLIGHT
TZOFFSETFROM:+0100
TZOFFSETTO:+0200
TZNAME:CEST
DTSTART:20240331T010000
END:DAYLIGHT
BEGIN:STANDARD
TZOFFSETFROM:+0200
TZOFFSETTO:+0100
TZNAME:CET
DTSTART:20241027T010000
END:STANDARD
END:VTIMEZONE
BEGIN:VEVENT
DTSTART;TZID=Europe/Stockholm:20231002T190000
DTEND;TZID=Europe/Stockholm:20231002T210000
DTSTAMP:20260422T221201
CREATED:20230618T190329Z
LAST-MODIFIED:20231007T135522Z
UID:1495-1696273200-1696280400@lkms.se
SUMMARY:duo b!z'art
DESCRIPTION:Geoffrey Baptiste och André Roe på fyrhändigt piano\nClaude Debussy: Petite Suite \nRobert Schumann: Bilder aus Osten op 66 \nJohannes Brahms: Variationer på ett tema av Robert Schumann op 23 \n– Paus – \nEmmanuel Chabrier: Souvenirs de Munich \nWolfgang Amadeus Mozart: Sonata KV521 \nJohannes Brahms: Ungerska danser (ett urval) \nExtranummer: Laurent Beeckmans: After Mozart: Turkish Boogie Woogie \nHemsida \nBiljetter på Ticketmaster \n 
URL:https://lkms.se/event/duo-bzart/
LOCATION:Magle Konserthus\, Magle Stora Kyrkogata 4\, Lund\, 223 50\, Sverige
CATEGORIES:Egen
ATTACH;FMTTYPE=image/jpeg:https://lkms.se/wp-content/uploads/2023/03/Duobizart4-scaled.jpg
END:VEVENT
BEGIN:VEVENT
DTSTART;TZID=Europe/Stockholm:20231016T190000
DTEND;TZID=Europe/Stockholm:20231016T210000
DTSTAMP:20260422T221201
CREATED:20230618T190339Z
LAST-MODIFIED:20231017T191651Z
UID:1501-1697482800-1697490000@lkms.se
SUMMARY:Klaviertrio Würzburg
DESCRIPTION:Katharina Cording\, violin\, Peer-Christoph Pulc\, cello och Karla-Maria Cording\, piano\nAmanda Maier Röntgen (1853-1894): Pianotrio i Ess-dur \nJohannes Brahms (1833-1897): Trio i c-moll\, op. 101 \nCamille Saint-Saëns (1835-1921): Trio i e-moll\, op. 92 \nExtranummer: \nRobert Schumann: Piano trio no 1 i d moll\, op. 63\, tredje satsen \nJohannes Brahms: Wiegenlied (ur 5 Lieder\, op. 49) \nHemsida | YouTube \nBiljetter på Ticketmaster \n 
URL:https://lkms.se/event/klavertrio-wurzburg/
LOCATION:Magle Konserthus\, Magle Stora Kyrkogata 4\, Lund\, 223 50\, Sverige
CATEGORIES:Egen
ATTACH;FMTTYPE=image/webp:https://lkms.se/wp-content/uploads/2023/03/Klavertrio-Wurtzburg.webp
END:VEVENT
END:VCALENDAR