BEGIN:VCALENDAR
VERSION:2.0
PRODID:-//lkms.se - ECPv6.15.20//NONSGML v1.0//EN
CALSCALE:GREGORIAN
METHOD:PUBLISH
X-ORIGINAL-URL:https://lkms.se
X-WR-CALDESC:Händelser för lkms.se
REFRESH-INTERVAL;VALUE=DURATION:PT1H
X-Robots-Tag:noindex
X-PUBLISHED-TTL:PT1H
BEGIN:VTIMEZONE
TZID:Europe/Stockholm
BEGIN:DAYLIGHT
TZOFFSETFROM:+0100
TZOFFSETTO:+0200
TZNAME:CEST
DTSTART:20230326T010000
END:DAYLIGHT
BEGIN:STANDARD
TZOFFSETFROM:+0200
TZOFFSETTO:+0100
TZNAME:CET
DTSTART:20231029T010000
END:STANDARD
BEGIN:DAYLIGHT
TZOFFSETFROM:+0100
TZOFFSETTO:+0200
TZNAME:CEST
DTSTART:20240331T010000
END:DAYLIGHT
BEGIN:STANDARD
TZOFFSETFROM:+0200
TZOFFSETTO:+0100
TZNAME:CET
DTSTART:20241027T010000
END:STANDARD
BEGIN:DAYLIGHT
TZOFFSETFROM:+0100
TZOFFSETTO:+0200
TZNAME:CEST
DTSTART:20250330T010000
END:DAYLIGHT
BEGIN:STANDARD
TZOFFSETFROM:+0200
TZOFFSETTO:+0100
TZNAME:CET
DTSTART:20251026T010000
END:STANDARD
END:VTIMEZONE
BEGIN:VEVENT
DTSTART;TZID=Europe/Stockholm:20241007T190000
DTEND;TZID=Europe/Stockholm:20241007T210000
DTSTAMP:20260422T053709
CREATED:20240621T180453Z
LAST-MODIFIED:20240819T162816Z
UID:2130-1728327600-1728334800@lkms.se
SUMMARY:Nordisk Klaverkvartet
DESCRIPTION:Spelafton nr 687 \nChristian Ellegaard\, violin\, Mina Fred\, viola\, Tobias van der Pals\, cello & Rikke Sandberg\, piano\nAmanda Maier-Röntgen: Pianokvartett i e-moll \nWolfgang A. Mozart: Pianokvartett nr 2 i Ess-dur KV 493 \nRobert Schumann: Pianokvartett i Ess-dur op. 47 \nBiljetter (barn och ungdomar under 18 år går in gratis och behöver ingen biljett): Ticketmaster
URL:https://lkms.se/event/nordisk-klaverkvartett/
LOCATION:Magle Konserthus\, Magle Stora Kyrkogata 4\, Lund\, 223 50\, Sverige
CATEGORIES:Egen
ATTACH;FMTTYPE=image/jpeg:https://lkms.se/wp-content/uploads/2024/05/3-Nordisk-Klaverkvartett-bild.jpg
END:VEVENT
END:VCALENDAR