BEGIN:VCALENDAR
VERSION:2.0
PRODID:-//lkms.se - ECPv6.15.20//NONSGML v1.0//EN
CALSCALE:GREGORIAN
METHOD:PUBLISH
X-WR-CALNAME:lkms.se
X-ORIGINAL-URL:https://lkms.se
X-WR-CALDESC:Händelser för lkms.se
REFRESH-INTERVAL;VALUE=DURATION:PT1H
X-Robots-Tag:noindex
X-PUBLISHED-TTL:PT1H
BEGIN:VTIMEZONE
TZID:Europe/Stockholm
BEGIN:DAYLIGHT
TZOFFSETFROM:+0100
TZOFFSETTO:+0200
TZNAME:CEST
DTSTART:20230326T010000
END:DAYLIGHT
BEGIN:STANDARD
TZOFFSETFROM:+0200
TZOFFSETTO:+0100
TZNAME:CET
DTSTART:20231029T010000
END:STANDARD
BEGIN:DAYLIGHT
TZOFFSETFROM:+0100
TZOFFSETTO:+0200
TZNAME:CEST
DTSTART:20240331T010000
END:DAYLIGHT
BEGIN:STANDARD
TZOFFSETFROM:+0200
TZOFFSETTO:+0100
TZNAME:CET
DTSTART:20241027T010000
END:STANDARD
BEGIN:DAYLIGHT
TZOFFSETFROM:+0100
TZOFFSETTO:+0200
TZNAME:CEST
DTSTART:20250330T010000
END:DAYLIGHT
BEGIN:STANDARD
TZOFFSETFROM:+0200
TZOFFSETTO:+0100
TZNAME:CET
DTSTART:20251026T010000
END:STANDARD
END:VTIMEZONE
BEGIN:VEVENT
DTSTART;TZID=Europe/Stockholm:20241125T190000
DTEND;TZID=Europe/Stockholm:20241125T210000
DTSTAMP:20260422T040747
CREATED:20240621T180434Z
LAST-MODIFIED:20241117T090208Z
UID:2146-1732561200-1732568400@lkms.se
SUMMARY:Trio Aurora
DESCRIPTION:Spelafton nr 690 \nFinalister i Ung & Lovande 2023\nMartin Granström\, violin\, Daniel Thorell\, cello & Sten Ulloa Carler\, piano\nDaniel Thorell har fått förhinder och ersätts av Kristina Winiarski!\nSchubertiad med Mozart och Mendelssohn\nW. A. Mozart: Pianotrio i G-dur KV 564 \nFelix Mendelssohn: Pianotrio nr 1 i d-moll op. 49 \nFranz Schubert: Pianotrio nr. 2 i Ess-dur op. 100\, D 929 \nMartin Granström Facebook | Karistina Winiarski Hemsida | Sten Ulloa Carler Hemsida \nBiljetter (barn och ungdomar under 18 år går in gratis och behöver ingen biljett): Ticketmaster
URL:https://lkms.se/event/trio-aurora/
LOCATION:Magle Konserthus\, Magle Stora Kyrkogata 4\, Lund\, 223 50\, Sverige
CATEGORIES:Egen
ATTACH;FMTTYPE=image/jpeg:https://lkms.se/wp-content/uploads/2024/06/Trio-Aurora-m-KW-scaled.jpg
END:VEVENT
END:VCALENDAR