BEGIN:VCALENDAR
VERSION:2.0
PRODID:-//lkms.se - ECPv6.15.20//NONSGML v1.0//EN
CALSCALE:GREGORIAN
METHOD:PUBLISH
X-ORIGINAL-URL:https://lkms.se
X-WR-CALDESC:Händelser för lkms.se
REFRESH-INTERVAL;VALUE=DURATION:PT1H
X-Robots-Tag:noindex
X-PUBLISHED-TTL:PT1H
BEGIN:VTIMEZONE
TZID:Europe/Stockholm
BEGIN:DAYLIGHT
TZOFFSETFROM:+0100
TZOFFSETTO:+0200
TZNAME:CEST
DTSTART:20240331T010000
END:DAYLIGHT
BEGIN:STANDARD
TZOFFSETFROM:+0200
TZOFFSETTO:+0100
TZNAME:CET
DTSTART:20241027T010000
END:STANDARD
BEGIN:DAYLIGHT
TZOFFSETFROM:+0100
TZOFFSETTO:+0200
TZNAME:CEST
DTSTART:20250330T010000
END:DAYLIGHT
BEGIN:STANDARD
TZOFFSETFROM:+0200
TZOFFSETTO:+0100
TZNAME:CET
DTSTART:20251026T010000
END:STANDARD
BEGIN:DAYLIGHT
TZOFFSETFROM:+0100
TZOFFSETTO:+0200
TZNAME:CEST
DTSTART:20260329T010000
END:DAYLIGHT
BEGIN:STANDARD
TZOFFSETFROM:+0200
TZOFFSETTO:+0100
TZNAME:CET
DTSTART:20261025T010000
END:STANDARD
END:VTIMEZONE
BEGIN:VEVENT
DTSTART;TZID=Europe/Stockholm:20251208T190000
DTEND;TZID=Europe/Stockholm:20251208T210000
DTSTAMP:20260419T224456
CREATED:20250621T192228Z
LAST-MODIFIED:20251215T213828Z
UID:2562-1765220400-1765227600@lkms.se
SUMMARY:Sten Ulloa Carler\, piano
DESCRIPTION:Spelafton nr 702 \nDiplomkonsert\nFelix Mendelssohn (1809-1847) Variations sérieuses op. 54 d-moll\nHanna Blomberg (1990-) History repeats itself (2022)\nMaurice Ravel (1875-1937) Gaspard de la nuit\nI. Ondine II. Le gibet III. Scarbo\nPaus\nJohannes Brahms (1833-1897) Variationer över ett eget tema op. 21 nr. 1 D-dur\nRobert Schumann (1810-1856) Symfoniska etyder op. 13 \nExtranummer:\n1. Johann Sebastian Bach – Ferruccio Busoni Nun Komm der Heiden Heiland\n2. Jean-Philippe Rameau Gavotte\n3. Frederico Mompou El Lago \nHemsida \nBiljetter (barn och ungdomar under 18 år kan hämta en gratisbiljett vid entrén): tickster.com
URL:https://lkms.se/event/sten-ulloa-carler-piano/
LOCATION:Magle Konserthus\, Magle Stora Kyrkogata 4\, Lund\, 223 50\, Sverige
CATEGORIES:Egen
ATTACH;FMTTYPE=image/jpeg:https://lkms.se/wp-content/uploads/2025/05/5-Sten-Ulloa-Carler-Photo-1-scaled.jpg
END:VEVENT
END:VCALENDAR