BEGIN:VCALENDAR
VERSION:2.0
PRODID:-//lkms.se - ECPv6.15.20//NONSGML v1.0//EN
CALSCALE:GREGORIAN
METHOD:PUBLISH
X-WR-CALNAME:lkms.se
X-ORIGINAL-URL:https://lkms.se
X-WR-CALDESC:Händelser för lkms.se
REFRESH-INTERVAL;VALUE=DURATION:PT1H
X-Robots-Tag:noindex
X-PUBLISHED-TTL:PT1H
BEGIN:VTIMEZONE
TZID:Europe/Stockholm
BEGIN:DAYLIGHT
TZOFFSETFROM:+0100
TZOFFSETTO:+0200
TZNAME:CEST
DTSTART:20250330T010000
END:DAYLIGHT
BEGIN:STANDARD
TZOFFSETFROM:+0200
TZOFFSETTO:+0100
TZNAME:CET
DTSTART:20251026T010000
END:STANDARD
BEGIN:DAYLIGHT
TZOFFSETFROM:+0100
TZOFFSETTO:+0200
TZNAME:CEST
DTSTART:20260329T010000
END:DAYLIGHT
BEGIN:STANDARD
TZOFFSETFROM:+0200
TZOFFSETTO:+0100
TZNAME:CET
DTSTART:20261025T010000
END:STANDARD
BEGIN:DAYLIGHT
TZOFFSETFROM:+0100
TZOFFSETTO:+0200
TZNAME:CEST
DTSTART:20270328T010000
END:DAYLIGHT
BEGIN:STANDARD
TZOFFSETFROM:+0200
TZOFFSETTO:+0100
TZNAME:CET
DTSTART:20271031T010000
END:STANDARD
END:VTIMEZONE
BEGIN:VEVENT
DTSTART;TZID=Europe/Stockholm:20260112T190000
DTEND;TZID=Europe/Stockholm:20260112T210000
DTSTAMP:20260419T210507
CREATED:20250621T192248Z
LAST-MODIFIED:20251027T150600Z
UID:2571-1768244400-1768251600@lkms.se
SUMMARY:Duo STHM
DESCRIPTION:Spelafton nr 703 \nAlva Holm\, violin och Willem Stam\, cello\nErwin Schulhoff Duo för fiol och cello WV 74\nSofija Gubaidulina Rejoice! Sonat för violin och cello\nKaija Saariaho Aure (version för violin och cello)\nZoltán Kodály Duo för violin och cello op. 7 \nHemsida Alva Holm | Instagram Willem Stam \nBiljetter (barn och ungdomar under 18 år kan hämta en gratisbiljett vid entrén): tickster.com
URL:https://lkms.se/event/duo-sthm/
LOCATION:Magle Konserthus\, Magle Stora Kyrkogata 4\, Lund\, 223 50\, Sverige
CATEGORIES:Egen
ATTACH;FMTTYPE=image/jpeg:https://lkms.se/wp-content/uploads/2025/05/6-Alva-Holm-Willem-Stam-CO.jpeg
END:VEVENT
END:VCALENDAR