BEGIN:VCALENDAR
VERSION:2.0
PRODID:-//lkms.se - ECPv6.15.20//NONSGML v1.0//EN
CALSCALE:GREGORIAN
METHOD:PUBLISH
X-WR-CALNAME:lkms.se
X-ORIGINAL-URL:https://lkms.se
X-WR-CALDESC:Händelser för lkms.se
REFRESH-INTERVAL;VALUE=DURATION:PT1H
X-Robots-Tag:noindex
X-PUBLISHED-TTL:PT1H
BEGIN:VTIMEZONE
TZID:Europe/Stockholm
BEGIN:DAYLIGHT
TZOFFSETFROM:+0100
TZOFFSETTO:+0200
TZNAME:CEST
DTSTART:20220327T010000
END:DAYLIGHT
BEGIN:STANDARD
TZOFFSETFROM:+0200
TZOFFSETTO:+0100
TZNAME:CET
DTSTART:20221030T010000
END:STANDARD
BEGIN:DAYLIGHT
TZOFFSETFROM:+0100
TZOFFSETTO:+0200
TZNAME:CEST
DTSTART:20230326T010000
END:DAYLIGHT
BEGIN:STANDARD
TZOFFSETFROM:+0200
TZOFFSETTO:+0100
TZNAME:CET
DTSTART:20231029T010000
END:STANDARD
BEGIN:DAYLIGHT
TZOFFSETFROM:+0100
TZOFFSETTO:+0200
TZNAME:CEST
DTSTART:20240331T010000
END:DAYLIGHT
BEGIN:STANDARD
TZOFFSETFROM:+0200
TZOFFSETTO:+0100
TZNAME:CET
DTSTART:20241027T010000
END:STANDARD
END:VTIMEZONE
BEGIN:VEVENT
DTSTART;TZID=Europe/Stockholm:20230904T190000
DTEND;TZID=Europe/Stockholm:20230904T210000
DTSTAMP:20260423T010259
CREATED:20230305T102542Z
LAST-MODIFIED:20230904T181601Z
UID:1478-1693854000-1693861200@lkms.se
SUMMARY:Tobias van der Pals\, cello och Pål Eide\, piano
DESCRIPTION:Carnegie Hall konsert\nReinhold Glière: Con Moto i E-dur från Tolv stycken op 51 no 1 \nAlexandr Glazunov: Chant du ménéstrel op 71 \nLeopold van der Pals: Sonat för cello och piano op 5a \nPjotr Tjajkovskij: Pezzo capriccioso op 62 \nEdvard Grieg: Sonat i a-moll för cello och piano \nHemsida Tobias | Hemsida Pål \nRecension av Tobias och Påls konsert i Carnegie Hall\, pianyc.net 2022-11-20 \nBiljetter på Ticketmaster
URL:https://lkms.se/event/tobias-van-der-pals-cello-och-pal-eide-piano/
LOCATION:Magle Konserthus\, Magle Stora Kyrkogata 4\, Lund\, 223 50\, Sverige
CATEGORIES:Egen
ATTACH;FMTTYPE=image/jpeg:https://lkms.se/wp-content/uploads/2023/03/Tobias-van-der-Pals-Pal-Eide-2.jpeg
END:VEVENT
END:VCALENDAR