BEGIN:VCALENDAR
VERSION:2.0
PRODID:-//lkms.se - ECPv6.15.20//NONSGML v1.0//EN
CALSCALE:GREGORIAN
METHOD:PUBLISH
X-ORIGINAL-URL:https://lkms.se
X-WR-CALDESC:Händelser för lkms.se
REFRESH-INTERVAL;VALUE=DURATION:PT1H
X-Robots-Tag:noindex
X-PUBLISHED-TTL:PT1H
BEGIN:VTIMEZONE
TZID:Europe/Stockholm
BEGIN:DAYLIGHT
TZOFFSETFROM:+0100
TZOFFSETTO:+0200
TZNAME:CEST
DTSTART:20230326T010000
END:DAYLIGHT
BEGIN:STANDARD
TZOFFSETFROM:+0200
TZOFFSETTO:+0100
TZNAME:CET
DTSTART:20231029T010000
END:STANDARD
BEGIN:DAYLIGHT
TZOFFSETFROM:+0100
TZOFFSETTO:+0200
TZNAME:CEST
DTSTART:20240331T010000
END:DAYLIGHT
BEGIN:STANDARD
TZOFFSETFROM:+0200
TZOFFSETTO:+0100
TZNAME:CET
DTSTART:20241027T010000
END:STANDARD
BEGIN:DAYLIGHT
TZOFFSETFROM:+0100
TZOFFSETTO:+0200
TZNAME:CEST
DTSTART:20250330T010000
END:DAYLIGHT
BEGIN:STANDARD
TZOFFSETFROM:+0200
TZOFFSETTO:+0100
TZNAME:CET
DTSTART:20251026T010000
END:STANDARD
END:VTIMEZONE
BEGIN:VEVENT
DTSTART;TZID=Europe/Stockholm:20240226T190000
DTEND;TZID=Europe/Stockholm:20240226T210000
DTSTAMP:20260422T165815
CREATED:20230618T180548Z
LAST-MODIFIED:20240213T190732Z
UID:1535-1708974000-1708981200@lkms.se
SUMMARY:Florin Harp Trio
DESCRIPTION:Spelafton nr. 681 \nAnna Reinersman\, harpa\, Tittit van der Pals\, cello och Eva Vrtacnik\, oboe\nJean Marie Leclair: Sonate a Trois\, ca 1700 \nLeopold van der Pals: Pezzo Lirico\, op. 154\, 1944 \nLeopold van der Pals: Trittico Ludovisiano\, op. 102\, 1936\, arr. Tobias van der Pals – Svenskt uruppförande\n1. Juno. 2. Nascita di Venere. 3. Medusa Dormiente. \nMaurice Ravel: Sonatine en Trio\, 1905\, arr. Salzedo \nHeinz Walter Florin: Poems for the Eternal Feminine\, 2017 – Svenskt uruppförande \nClaude Debussy: Reverie\, 1890 \nGabriel Fauré:  Sicilienne\, op. 78\, 1893 \nRolf Martinsson: Fairy Dances\, 2024 – Uruppförande! \nVincent Kennedy: Suite\, 2002\n1. Dance. 2 Meditation. Presto. \nHemsida \nBiljetter på Ticketmaster \n 
URL:https://lkms.se/event/florin-harp-trio/
LOCATION:Magle Konserthus\, Magle Stora Kyrkogata 4\, Lund\, 223 50\, Sverige
CATEGORIES:Egen
ATTACH;FMTTYPE=image/jpeg:https://lkms.se/wp-content/uploads/2023/03/Florin-Harp-Trio.jpg
END:VEVENT
END:VCALENDAR