BEGIN:VCALENDAR
VERSION:2.0
PRODID:-//lkms.se - ECPv6.15.20//NONSGML v1.0//EN
CALSCALE:GREGORIAN
METHOD:PUBLISH
X-WR-CALNAME:lkms.se
X-ORIGINAL-URL:https://lkms.se
X-WR-CALDESC:Händelser för lkms.se
REFRESH-INTERVAL;VALUE=DURATION:PT1H
X-Robots-Tag:noindex
X-PUBLISHED-TTL:PT1H
BEGIN:VTIMEZONE
TZID:Europe/Stockholm
BEGIN:DAYLIGHT
TZOFFSETFROM:+0100
TZOFFSETTO:+0200
TZNAME:CEST
DTSTART:20240331T010000
END:DAYLIGHT
BEGIN:STANDARD
TZOFFSETFROM:+0200
TZOFFSETTO:+0100
TZNAME:CET
DTSTART:20241027T010000
END:STANDARD
BEGIN:DAYLIGHT
TZOFFSETFROM:+0100
TZOFFSETTO:+0200
TZNAME:CEST
DTSTART:20250330T010000
END:DAYLIGHT
BEGIN:STANDARD
TZOFFSETFROM:+0200
TZOFFSETTO:+0100
TZNAME:CET
DTSTART:20251026T010000
END:STANDARD
BEGIN:DAYLIGHT
TZOFFSETFROM:+0100
TZOFFSETTO:+0200
TZNAME:CEST
DTSTART:20260329T010000
END:DAYLIGHT
BEGIN:STANDARD
TZOFFSETFROM:+0200
TZOFFSETTO:+0100
TZNAME:CET
DTSTART:20261025T010000
END:STANDARD
END:VTIMEZONE
BEGIN:VEVENT
DTSTART;TZID=Europe/Stockholm:20250113T190000
DTEND;TZID=Europe/Stockholm:20250113T210000
DTSTAMP:20260422T030537
CREATED:20240621T180417Z
LAST-MODIFIED:20250103T151121Z
UID:2115-1736794800-1736802000@lkms.se
SUMMARY:Peter Friis Johansson\, piano
DESCRIPTION:Spelafton nr 691 \nBo Linde: ur Sex Karaktärsstycken op 4\nNycker\nPatos\nMondänt\nSolent \nAleksandr Skrjabin: ur 24 Preludier op. 11\nNo 1 i C-dur\nNo 4 i e-moll\nNo 5 i D-dur\nNo 6 i h-moll\nNo 9 i E-dur\nNo 14 i ess-moll\nNo 15 i Dess-dur\nNo 16 i bess-moll\nNo 17 i Ass-dur\nNo 23 i F-dur\nNo 24 i d-moll \nHenry Cowell: Three Irish Legends\nThe Tides of Manaunaun\nThe Hero Sun\nThe Voice of Lir \nPAUS \nClaude Debussy: Preludier (ur bok 1)\nDanseuses de delphes (Dansöserna i Delphi)\nVoiles (Slöjor/Segel)\nLe vent dans la plaine (Vinden över fälten)\nLes sons et les parfums tournent dans l’air du soir (Ljud och dofter virvlar i kvällsluften)\nLes collines d’Anacapri (Anacapris kullar)\nDes pas sur la neige (Fotspår i snön)\nCe qu’a vu le vent d’ouest (Vad västanvinden sett)\nLa fille aux cheveux de lin (Flickan med linhåret)\nLa sérénade interrompue (Den avbrutna serenaden)\nLa cathédrale engloutie (Den sjunkna katedralen)\nLa danse de Puck (Pucks dans)\nMinstrels (Gycklare) \nHemsida \nBiljetter (barn och ungdomar under 18 år går in gratis och behöver ingen biljett): Ticketmaster \n 
URL:https://lkms.se/event/peter-friis-johansson-piano/
LOCATION:Magle Konserthus\, Magle Stora Kyrkogata 4\, Lund\, 223 50\, Sverige
CATEGORIES:Egen
ATTACH;FMTTYPE=image/jpeg:https://lkms.se/wp-content/uploads/2024/05/7-Peter-Friis-Johansson.jpg
END:VEVENT
END:VCALENDAR