BEGIN:VCALENDAR
VERSION:2.0
PRODID:-//lkms.se - ECPv6.15.20//NONSGML v1.0//EN
CALSCALE:GREGORIAN
METHOD:PUBLISH
X-ORIGINAL-URL:https://lkms.se
X-WR-CALDESC:Händelser för lkms.se
REFRESH-INTERVAL;VALUE=DURATION:PT1H
X-Robots-Tag:noindex
X-PUBLISHED-TTL:PT1H
BEGIN:VTIMEZONE
TZID:Europe/Stockholm
BEGIN:DAYLIGHT
TZOFFSETFROM:+0100
TZOFFSETTO:+0200
TZNAME:CEST
DTSTART:20240331T010000
END:DAYLIGHT
BEGIN:STANDARD
TZOFFSETFROM:+0200
TZOFFSETTO:+0100
TZNAME:CET
DTSTART:20241027T010000
END:STANDARD
BEGIN:DAYLIGHT
TZOFFSETFROM:+0100
TZOFFSETTO:+0200
TZNAME:CEST
DTSTART:20250330T010000
END:DAYLIGHT
BEGIN:STANDARD
TZOFFSETFROM:+0200
TZOFFSETTO:+0100
TZNAME:CET
DTSTART:20251026T010000
END:STANDARD
BEGIN:DAYLIGHT
TZOFFSETFROM:+0100
TZOFFSETTO:+0200
TZNAME:CEST
DTSTART:20260329T010000
END:DAYLIGHT
BEGIN:STANDARD
TZOFFSETFROM:+0200
TZOFFSETTO:+0100
TZNAME:CET
DTSTART:20261025T010000
END:STANDARD
BEGIN:DAYLIGHT
TZOFFSETFROM:+0100
TZOFFSETTO:+0200
TZNAME:CEST
DTSTART:20270328T010000
END:DAYLIGHT
BEGIN:STANDARD
TZOFFSETFROM:+0200
TZOFFSETTO:+0100
TZNAME:CET
DTSTART:20271031T010000
END:STANDARD
END:VTIMEZONE
BEGIN:VEVENT
DTSTART;TZID=Europe/Stockholm:20251006T190000
DTEND;TZID=Europe/Stockholm:20251006T210000
DTSTAMP:20260423T002855
CREATED:20250621T192103Z
LAST-MODIFIED:20251003T101654Z
UID:2517-1759777200-1759784400@lkms.se
SUMMARY:Trio Sōra - Observera lokalbytet!
DESCRIPTION:Spelafton nr 698 \nObservera lokalbyte: konserten sker i Auditoriet på Kulturen i Lund\, Tegnérsplatsen 6.\nFanny Fheodoroff\, violin\, Angèle Legasa\, cello och Pauline Chenais\, piano\nTrion har bl.a. spelat in Beethovens och Brahms pianotrios på skiva. \nProgram: \nDmitrij Sjostakovitj Pianotrio nr 1 i c-moll\, op. 8\nJohannes Brahms Pianotrio nr 3 i c-moll op. 101\nÁstor Piazzolla Årstider (arrangemang för trio) \nHemsida: www.triosora.com \nMagle konserthus renoveras fortfarande och hinner inte bli färdig till den 6 oktober varför kvällens konsert blir på Kulturen i Lund. Förköpta biljetter är giltiga oavsett om det står Magle eller Kulturen på dem! \nBiljetter (barn och ungdomar under 18 år går in gratis och behöver ingen biljett): tickster.com
URL:https://lkms.se/event/trio-sora/
LOCATION:Auditoriet\, Kulturen i Lund\, Tegnérsplatsen 6\, Lund\, 22350
CATEGORIES:MiS
ATTACH;FMTTYPE=image/jpeg:https://lkms.se/wp-content/uploads/2025/05/1-TrioSora-©-Astrid-di-Crollalanza-1-scaled.jpg
END:VEVENT
BEGIN:VEVENT
DTSTART;TZID=Europe/Stockholm:20251027T190000
DTEND;TZID=Europe/Stockholm:20251027T210000
DTSTAMP:20260423T002855
CREATED:20250621T192126Z
LAST-MODIFIED:20251031T063148Z
UID:2537-1761591600-1761598800@lkms.se
SUMMARY:Minguet Quartett
DESCRIPTION:Spelafton nr 699 \nUlrich Isfort och Annette Reisinger\, violin\, Aida-Carmen Soanea\, viola och Matthias Diener\, cello\nWolfgang Amadeus Mozart Stråkkvartett K465 Dissonanskvartetten\nArnold Schönberg Scherzo för stråkkvartett i F-dur\nGustav Mahler Ich bin der Welt abhanden gekommen (arr. för stråkkvartett av A. Reisinger)\nJohannes Brahms Stråkkvartett nr 1 i c-moll op. 51:1\nExtranummer: Endre Szervánszky Serenade för stråkorkester\, sats III Arioso (takt 1-12) \nHemsida \nBiljetter (barn och ungdomar under 18 år kan hämta en gratisbiljett vid entrén): tickster.com
URL:https://lkms.se/event/minguet-quartett/
LOCATION:Magle Konserthus\, Magle Stora Kyrkogata 4\, Lund\, 223 50\, Sverige
CATEGORIES:MiS
ATTACH;FMTTYPE=image/jpeg:https://lkms.se/wp-content/uploads/2025/05/2-mq-galerie-by-irene_zandel-2-CROP-scaled.jpg
END:VEVENT
BEGIN:VEVENT
DTSTART;TZID=Europe/Stockholm:20251110T190000
DTEND;TZID=Europe/Stockholm:20251110T210000
DTSTAMP:20260423T002855
CREATED:20250621T192148Z
LAST-MODIFIED:20251111T095302Z
UID:2548-1762801200-1762808400@lkms.se
SUMMARY:Duo Lorenzen-Ekberg
DESCRIPTION:Spelafton nr 700 \nKathrin Lorenzen\, sopran och Oskar Ekberg\, piano\nJordens och himlens sånger\nRecension i Sydsvenskan 2025-11-11 \nMoritz Eggert (f. 1965) Neues Märchen\nElfrida Andrée (1841-1929) Tre sånger op. 8:\n1. En vacker höstdag\n2. Vi ses igen\n3. Visa en vårmorgon\nMoritz Eggert Sprich Scheherezade\nElfrida Andrée Ur Tre tondikter op. 4: På vattnet\nGustaf Nordqvist (1886-1949) Tre sånger\nOlivier Messiaen (1908-92)\nChants de Terre et de Ciel nr 1-3\nSå kom du\nBail avec Mi (pour ma femme)\nVida\, hvilande midnatt\nAntienne du silence (pour le jour des Anges gardiens)\nLillebarn\nDanse du bébé-pilule (pour mon petit Pascal\n– Paus –\nGustaf Nordqvist Jorden\, fyra sånger till text av Erik Blomberg\nOlivier Messiaen\nChants de Terre et de Ciel nr 4-6\nMänniskans dröm\nArc-en ciel d’innocence (pour mon petit Pascal)\nDyningen\nMinuit pile et face (pour la mort)\nÄppelträd och päronträd\nRésurrection (pour la jour de Pǎques)\nStjärnorna äro så stilla\nElfrida Andrée Ur Tre tondikter op. 4: Om kvällen\nMoritz Eggert Liebeserklärung\nClaire Delbos (1906-59)\nPrimevère Cinq melodies\nLe long de mes genoux\nJ’ai peur d’être laide…\nMais je suis belle d’être aimée!\nJe suis née à l’amour\nDans ma robe à bouquets bleus..\nMoritz Eggert herz vers sagen \nExtranummer: Wilhelm Stenhammar Flickan kom ifrån sin älsklings möte. Lyssna här \nHemsida Kathrin Lorenzen | Oskar Ekberg \nBiljetter (barn och ungdomar under 18 år kan hämta en gratisbiljett vid entrén): tickster.com
URL:https://lkms.se/event/duo-lorenzen-ekberg/
LOCATION:Magle Konserthus\, Magle Stora Kyrkogata 4\, Lund\, 223 50\, Sverige
CATEGORIES:Egen
ATTACH;FMTTYPE=image/jpeg:https://lkms.se/wp-content/uploads/2025/05/3-Lorenzen-Ekberg_7879-CROP.jpg
END:VEVENT
BEGIN:VEVENT
DTSTART;TZID=Europe/Stockholm:20251124T190000
DTEND;TZID=Europe/Stockholm:20251124T210000
DTSTAMP:20260423T002855
CREATED:20250621T192213Z
LAST-MODIFIED:20251027T150515Z
UID:2555-1764010800-1764018000@lkms.se
SUMMARY:Emotional Archeology
DESCRIPTION:Spelafton nr 701 \nLiam Byrne\, viola da gamba och Jonas Nordberg\, teorb\nA-MOLL Tendre et plaintif / Ömt och klagande\nPrélude Robert de Visée\nPrélude Marin Marais\nAllemande Robert de Visée\nSarabande Marin Marais \nD-DUR Joyeux et très Guerrier / Glatt och krigiskt\nPrélude Marin Marais\nAllemande et Double\nSarabande\nGigue \nH-DUR Solitaire et mélancolique / Ensamt och melankoliskt\nSarabande Marin Marais\nTombeau pour Monsieur Lully\nMenuet \n— PAUS — \nG-DUR Doucement joyeux / Försiktigt glad\nPrélude\nEntrée des Espagnols Jean-Baptiste Lully\nSarabande Grave Marin Marais\nGavotte en rondeau Le Sieur de Machy\nChaconne Robert de Visée \nA-DUR Joyeux et champetre / Glatt och lantligt\nPrélude Le Sieur de Machy\nGavotte\nSarabande\nMenuet \nE-MOLL Effemmé\, amoureux\, et plaintif /Sprudlande\, amorös och klagande\nPrélude Robert de Visée\nPrélude Marin Marais\nSarabande à L’Espagnole\nPassacaille \nHemsida Liam Byrne | Jonas Nordberg \nBiljetter (barn och ungdomar under 18 år kan hämta en gratisbiljett vid entrén): tickster.com
URL:https://lkms.se/event/emotional-archeology/
LOCATION:Magle Konserthus\, Magle Stora Kyrkogata 4\, Lund\, 223 50\, Sverige
CATEGORIES:MiS
ATTACH;FMTTYPE=image/jpeg:https://lkms.se/wp-content/uploads/2025/05/4-5f67caed19604bdd0a3b50a5bae096c9f39a86a8776792c0b6dc22492da5e5e8._SX1080_FMjpg_LITEN.jpg
END:VEVENT
BEGIN:VEVENT
DTSTART;TZID=Europe/Stockholm:20251208T190000
DTEND;TZID=Europe/Stockholm:20251208T210000
DTSTAMP:20260423T002855
CREATED:20250621T192228Z
LAST-MODIFIED:20251215T213828Z
UID:2562-1765220400-1765227600@lkms.se
SUMMARY:Sten Ulloa Carler\, piano
DESCRIPTION:Spelafton nr 702 \nDiplomkonsert\nFelix Mendelssohn (1809-1847) Variations sérieuses op. 54 d-moll\nHanna Blomberg (1990-) History repeats itself (2022)\nMaurice Ravel (1875-1937) Gaspard de la nuit\nI. Ondine II. Le gibet III. Scarbo\nPaus\nJohannes Brahms (1833-1897) Variationer över ett eget tema op. 21 nr. 1 D-dur\nRobert Schumann (1810-1856) Symfoniska etyder op. 13 \nExtranummer:\n1. Johann Sebastian Bach – Ferruccio Busoni Nun Komm der Heiden Heiland\n2. Jean-Philippe Rameau Gavotte\n3. Frederico Mompou El Lago \nHemsida \nBiljetter (barn och ungdomar under 18 år kan hämta en gratisbiljett vid entrén): tickster.com
URL:https://lkms.se/event/sten-ulloa-carler-piano/
LOCATION:Magle Konserthus\, Magle Stora Kyrkogata 4\, Lund\, 223 50\, Sverige
CATEGORIES:Egen
ATTACH;FMTTYPE=image/jpeg:https://lkms.se/wp-content/uploads/2025/05/5-Sten-Ulloa-Carler-Photo-1-scaled.jpg
END:VEVENT
BEGIN:VEVENT
DTSTART;TZID=Europe/Stockholm:20260112T190000
DTEND;TZID=Europe/Stockholm:20260112T210000
DTSTAMP:20260423T002855
CREATED:20250621T192248Z
LAST-MODIFIED:20251027T150600Z
UID:2571-1768244400-1768251600@lkms.se
SUMMARY:Duo STHM
DESCRIPTION:Spelafton nr 703 \nAlva Holm\, violin och Willem Stam\, cello\nErwin Schulhoff Duo för fiol och cello WV 74\nSofija Gubaidulina Rejoice! Sonat för violin och cello\nKaija Saariaho Aure (version för violin och cello)\nZoltán Kodály Duo för violin och cello op. 7 \nHemsida Alva Holm | Instagram Willem Stam \nBiljetter (barn och ungdomar under 18 år kan hämta en gratisbiljett vid entrén): tickster.com
URL:https://lkms.se/event/duo-sthm/
LOCATION:Magle Konserthus\, Magle Stora Kyrkogata 4\, Lund\, 223 50\, Sverige
CATEGORIES:Egen
ATTACH;FMTTYPE=image/jpeg:https://lkms.se/wp-content/uploads/2025/05/6-Alva-Holm-Willem-Stam-CO.jpeg
END:VEVENT
BEGIN:VEVENT
DTSTART;TZID=Europe/Stockholm:20260126T190000
DTEND;TZID=Europe/Stockholm:20260126T210000
DTSTAMP:20260423T002855
CREATED:20250621T192310Z
LAST-MODIFIED:20251027T152217Z
UID:2576-1769454000-1769461200@lkms.se
SUMMARY:Jerusalem Quartet - INSTÄLLD
DESCRIPTION:Konserten är inställd \n 
URL:https://lkms.se/event/jerusalem-quartet/
LOCATION:Magle Konserthus\, Magle Stora Kyrkogata 4\, Lund\, 223 50\, Sverige
CATEGORIES:MiS
ATTACH;FMTTYPE=image/jpeg:https://lkms.se/wp-content/uploads/2025/10/Konserten-ar-installd.jpg
END:VEVENT
BEGIN:VEVENT
DTSTART;TZID=Europe/Stockholm:20260202T180000
DTEND;TZID=Europe/Stockholm:20260202T190000
DTSTAMP:20260423T002855
CREATED:20250621T195334Z
LAST-MODIFIED:20250621T195354Z
UID:2701-1770055200-1770058800@lkms.se
SUMMARY:Årsmöte
DESCRIPTION:Välkommen till LKMS årsmöte 2026\, måndagen den 2 februari kl 18.00 på Magle Konserthus.
URL:https://lkms.se/event/arsmote-4/
LOCATION:Magle Konserthus\, Magle Stora Kyrkogata 4\, Lund\, 223 50\, Sverige
CATEGORIES:Egen
ATTACH;FMTTYPE=image/png:https://lkms.se/wp-content/uploads/2025/05/LKMS2-Bla2.png
END:VEVENT
BEGIN:VEVENT
DTSTART;TZID=Europe/Stockholm:20260209T190000
DTEND;TZID=Europe/Stockholm:20260209T210000
DTSTAMP:20260423T002855
CREATED:20250621T192327Z
LAST-MODIFIED:20251212T101914Z
UID:2609-1770663600-1770670800@lkms.se
SUMMARY:Christian Svarfvar\, violin och Johan Ullén\, piano
DESCRIPTION:Spelafton nr 704 \nMusik av César Franck\, Lili Boulanger\, Maurice Ravel och Gabriel Fauré\nMaurice Ravel (1875–1937)\nViolinsonat i G-dur \nLili Boulanger (1893–1918)\nNocturne för violin och piano\nCortège för violin och piano \nGabriel Fauré (1845–1924)\nRomance op. 28 \nPAUS \nCésar Franck (1822–1890)\nViolinsonat i A-dur \nHemsida Christian Svarfvar | Johan Ullén \nBiljetter (barn och ungdomar under 18 år kan hämta en gratisbiljett vid entrén): tickster.com
URL:https://lkms.se/event/christian-svarfvar-violin-och-johan-ullen-piano/
LOCATION:Magle Konserthus\, Magle Stora Kyrkogata 4\, Lund\, 223 50\, Sverige
CATEGORIES:Egen
ATTACH;FMTTYPE=image/jpeg:https://lkms.se/wp-content/uploads/2025/05/8-Svarfvar-Ullen.jpg
END:VEVENT
BEGIN:VEVENT
DTSTART;TZID=Europe/Stockholm:20260223T190000
DTEND;TZID=Europe/Stockholm:20260223T210000
DTSTAMP:20260423T002855
CREATED:20250621T192341Z
LAST-MODIFIED:20251027T150645Z
UID:2618-1771873200-1771880400@lkms.se
SUMMARY:Nordisk klaverkvartet + Sigrún Edvaldsdottir
DESCRIPTION:Spelafton nr 705 \nChristian Ellegaard och Sigrún Edvaldsdottir\, violin\, Mina Fred\, viola\, Tobias van der Pals\, cello och Rikke Sandberg\, piano\nRobert Schumann Pianokvintett i Ess-dur op. 44\nDmitrij Sjostakovitj Pianokvintett i g-moll op. 57 \nMera om Christian Ellegaard | Sigrún Edvaldsdottir | Hemsida Mina Fred | Tobias van der Pals | Rikke Sandberg \nBiljetter (barn och ungdomar under 18 år kan hämta en gratisbiljett vid entrén): tickster.com
URL:https://lkms.se/event/nordisk-klaverkvartet-sigrun-edvaldsdottir/
LOCATION:Magle Konserthus\, Magle Stora Kyrkogata 4\, Lund\, 223 50\, Sverige
CATEGORIES:Egen
ATTACH;FMTTYPE=image/jpeg:https://lkms.se/wp-content/uploads/2025/05/9-Nordisk-Klaverkvintett-LJUS.jpg
END:VEVENT
BEGIN:VEVENT
DTSTART;TZID=Europe/Stockholm:20260309T190000
DTEND;TZID=Europe/Stockholm:20260309T210000
DTSTAMP:20260423T002855
CREATED:20250621T192359Z
LAST-MODIFIED:20260413T211246Z
UID:2626-1773082800-1773090000@lkms.se
SUMMARY:Amalie Stalheim\, cello  och David Huang\, piano
DESCRIPTION:Spelafton nr 706 \nExtra inledningsnummer: Felix Mendelssohn Lied ohne Worte för cello och piano \nRobert Schumann Fünf Stücke im Volkston\nAmy Beach Three pieces op. 40: La Captive\, Berceuse\, Mazurka\nDmitrij Sjostakovitj Sonat för cello och piano op. 40 \nExtranummer: Sergej Rachmaninov \nHemsida Amalie Stalheim | David Huang \nBiljetter (barn och ungdomar under 18 år kan hämta en gratisbiljett vid entrén): tickster.com \n 
URL:https://lkms.se/event/amalie-stalheim-cello-och-david-huang-piano-2/
LOCATION:Magle Konserthus\, Magle Stora Kyrkogata 4\, Lund\, 223 50\, Sverige
CATEGORIES:Egen
ATTACH;FMTTYPE=image/webp:https://lkms.se/wp-content/uploads/2025/05/10-amaliestalheimdavidhuang_hemsidan.webp
END:VEVENT
BEGIN:VEVENT
DTSTART;TZID=Europe/Stockholm:20260323T190000
DTEND;TZID=Europe/Stockholm:20260323T210000
DTSTAMP:20260423T002855
CREATED:20250621T192416Z
LAST-MODIFIED:20260324T201952Z
UID:2637-1774292400-1774299600@lkms.se
SUMMARY:Marmen Quartet
DESCRIPTION:Spelafton nr 707 \nJohannes Marmen och Laia Valentin Braun\, violin\, Bryony Gibson-Cornish\, viola och Sinéad O’Halloran\, cello\nBéla Bartók Stråkkvartett nr 2 op. 17 Sz. 67\, BB 75\nWolfgang Amadeus Mozart Stråkkvartett i C-dur K465 Dissonanskvartetten\nBenjamin Staern Stråkkvartett nr 1\nLudwig van Beethoven Stråkkvartett nr 16 i F-dur op. 135 \nHemsida \nBiljetter (barn och ungdomar under 18 år kan hämta en gratisbiljett vid entrén): tickster.com \n  \nPhoto: Marco Borggreve
URL:https://lkms.se/event/marmenkvartetten/
LOCATION:Magle Konserthus\, Magle Stora Kyrkogata 4\, Lund\, 223 50\, Sverige
CATEGORIES:Egen
ATTACH;FMTTYPE=image/jpeg:https://lkms.se/wp-content/uploads/2025/05/11-MarmenQuartet04.jpeg
END:VEVENT
BEGIN:VEVENT
DTSTART;TZID=Europe/Stockholm:20260330T190000
DTEND;TZID=Europe/Stockholm:20260330T210000
DTSTAMP:20260423T002855
CREATED:20250621T192429Z
LAST-MODIFIED:20260325T204645Z
UID:2646-1774897200-1774904400@lkms.se
SUMMARY:Jakob Koranyi\, cello
DESCRIPTION:Spelafton nr 708 \nJohann Sebastian Bach Solosviter för cello nr 4 – 6 \nHemsida \nBiljetter (barn och ungdomar under 18 år kan hämta en gratisbiljett vid entrén): tickster.com \n  \n© 2007 Photographer Anna-Lena Ahlström
URL:https://lkms.se/event/jakob-koranyi-cello/
LOCATION:Magle Konserthus\, Magle Stora Kyrkogata 4\, Lund\, 223 50\, Sverige
CATEGORIES:MiS
ATTACH;FMTTYPE=image/jpeg:https://lkms.se/wp-content/uploads/2025/05/12-Koranyi_Jakob_pc_Anna-Lena_Ahlstrom_10_300-scaled.jpg
END:VEVENT
BEGIN:VEVENT
DTSTART;TZID=Europe/Stockholm:20260413T190000
DTEND;TZID=Europe/Stockholm:20260413T210000
DTSTAMP:20260423T002855
CREATED:20250621T192442Z
LAST-MODIFIED:20260413T211218Z
UID:2654-1776106800-1776114000@lkms.se
SUMMARY:Kleio Quartet
DESCRIPTION:Spelafton nr 709 \nYume Fujise och Katherine Yoon\, violin\, Jaume Angeles Fité\, viola och Hugh Mackay\, cello\nLudwig van Beethoven Stråkkvartett nr 11 i f-moll op. 95 Quartetto serioso\nKaija Saariaho Stråkkvartett Terra Memoria\n– Paus –\nAnton Webern Fem satser för stråkkvartett op. 5\nFelix Mendelssohn Stråkkvartett nr 5 i Ess-dur op. 44:3 \nExtranummer: Édith Piaf/Louis Guglielmi\, arr. KMG La Vie en Rose for string quartet \nHemsida \nBiljetter (barn och ungdomar under 18 år kan hämta en gratisbiljett vid entrén): tickster.com \n 
URL:https://lkms.se/event/kleio-quartet/
LOCATION:Magle Konserthus\, Magle Stora Kyrkogata 4\, Lund\, 223 50\, Sverige
CATEGORIES:MiS
ATTACH;FMTTYPE=image/jpeg:https://lkms.se/wp-content/uploads/2026/03/13-Kleio-Quartet-2026-scaled.jpeg
END:VEVENT
BEGIN:VEVENT
DTSTART;TZID=Europe/Stockholm:20260427T190000
DTEND;TZID=Europe/Stockholm:20260427T210000
DTSTAMP:20260423T002855
CREATED:20250621T192456Z
LAST-MODIFIED:20260415T125252Z
UID:2664-1777316400-1777323600@lkms.se
SUMMARY:OBS PROGRAMÄNDRING: Monbijoukvartetten
DESCRIPTION:Spelafton nr 710 \nKvartetten ur MSO har fått förhinder \nIstället kommer Monbijoukvartetten:\nMarcus Bäckerud och Alexander Hencz Chojecki\, violin\, Oscar Edin\, viola och Kristian Hencz Chojecki\, cello\nSelma Ehlde BUGS: I. Beetle\, II. Butterfly\, III. Bee. Stycket är skrivet för Monbijoukvartetten\nBéla Bartók Stråkkvartett nr 4\nLudwig van Beethoven Stråkkvartett nr 14 i ciss-moll\, op. 131 \nHemsida \nBiljetter (barn och ungdomar under 18 år kan hämta en gratisbiljett vid entrén): tickster.com \nMonbijoukvartetten 2023-05-07Foto Jonas Bilberg
URL:https://lkms.se/event/monbijou26/
LOCATION:Magle Konserthus\, Magle Stora Kyrkogata 4\, Lund\, 223 50\, Sverige
CATEGORIES:Egen
ATTACH;FMTTYPE=image/jpeg:https://lkms.se/wp-content/uploads/2026/03/14-Monbijoukvartetten.jpg
END:VEVENT
END:VCALENDAR